BEGIN:VCALENDAR
VERSION:2.0
PRODID:-//Agricultural Market Development - ECPv6.15.20//NONSGML v1.0//EN
CALSCALE:GREGORIAN
METHOD:PUBLISH
X-WR-CALNAME:Agricultural Market Development
X-ORIGINAL-URL:https://amd-india.net
X-WR-CALDESC:Events for Agricultural Market Development
REFRESH-INTERVAL;VALUE=DURATION:PT1H
X-Robots-Tag:noindex
X-PUBLISHED-TTL:PT1H
BEGIN:VTIMEZONE
TZID:UTC
BEGIN:STANDARD
TZOFFSETFROM:+0000
TZOFFSETTO:+0000
TZNAME:UTC
DTSTART:20210101T000000
END:STANDARD
END:VTIMEZONE
BEGIN:VTIMEZONE
TZID:Asia/Kolkata
BEGIN:STANDARD
TZOFFSETFROM:+0530
TZOFFSETTO:+0530
TZNAME:IST
DTSTART:20210101T000000
END:STANDARD
END:VTIMEZONE
BEGIN:VTIMEZONE
TZID:UTC
BEGIN:STANDARD
TZOFFSETFROM:+0000
TZOFFSETTO:+0000
TZNAME:UTC
DTSTART:20200101T000000
END:STANDARD
END:VTIMEZONE
BEGIN:VEVENT
DTSTART;TZID=UTC:20221201T000000
DTEND;TZID=UTC:20221231T235900
DTSTAMP:20260421T091205
CREATED:20220510T171433Z
LAST-MODIFIED:20220513T091341Z
UID:10176-1669852800-1672531140@amd-india.net
SUMMARY:Agri-Export Horticulture Crops - Best Practices
DESCRIPTION:Challenges for agri-food export from India to EU markets for horticulture crops –\nDECEMBER 2022
URL:https://amd-india.net/event/agri-export-horticulture-best-practices/
CATEGORIES:Featured,University
ATTACH;FMTTYPE=image/jpeg:https://amd-india.net/wp-content/uploads/2019/07/2.jpg
ORGANIZER;CN="Indo-German Cooperation on Agricultural Market Development (AMD) Project":MAILTO:archana.singh@adt.de
END:VEVENT
BEGIN:VEVENT
DTSTART;TZID=Asia/Kolkata:20221103T150000
DTEND;TZID=Asia/Kolkata:20221103T160000
DTSTAMP:20260421T091205
CREATED:20221101T120427Z
LAST-MODIFIED:20221101T121056Z
UID:13109-1667487600-1667491200@amd-india.net
SUMMARY:Launching of the Agri-Export Import Training Program
DESCRIPTION:AMD Project is launching of the Agri-Export Import Training Program\n03:00 pm to 04:00 pm IST / New Delhi
URL:https://amd-india.net/event/launching-of-the-agri-export-import-training-program/
CATEGORIES:Featured,University
END:VEVENT
BEGIN:VEVENT
DTSTART;TZID=UTC:20220705T140000
DTEND;TZID=UTC:20220705T173000
DTSTAMP:20260421T091205
CREATED:20220701T071954Z
LAST-MODIFIED:20220701T113259Z
UID:10769-1657029600-1657042200@amd-india.net
SUMMARY:International Webinar on “Spices exports from India to EU markets - Best Practices and Challenges”
DESCRIPTION:The Indo-German Cooperation on Agricultural Market Development (AMD) Project will jointly organize this webinar with the National Institute of Agricultural Marketing (NIAM) and Spice Board of India. During the online technical dialogue the following topics will be discussed: \n\nIndian spice export scenario and emerging global competitiveness\nIs your product fit for European market? – Mandatory requirements\nlinking FPOs with value chains for sustainable growth\nLessons from spice exports Emerging best practices and challenges -Farmers perspective\nStrengthening spice value chain in India and improving market access through capacity building and innovative interventions
URL:https://amd-india.net/event/international-webinar-on-spices-exports-from-india-to-eu-markets-best-practices-and-challenges/
CATEGORIES:Featured,University
ORGANIZER;CN="Indo-German Cooperation on Agricultural Market Development (AMD) Project":MAILTO:archana.singh@adt.de
END:VEVENT
BEGIN:VEVENT
DTSTART;VALUE=DATE:20220211
DTEND;VALUE=DATE:20220212
DTSTAMP:20260421T091205
CREATED:20220209T084034Z
LAST-MODIFIED:20220412T104742Z
UID:9245-1644537600-1644623999@amd-india.net
SUMMARY:Project Steering Committee
DESCRIPTION:Project Steering Committee Meeting\nThe key topics for this meeting: planning the work on the commodity studies\, discussing the outline and scope of the report on the Farmers Producers Organisations\, planning the Training Needs Assessment \n \nPMU meeting agenda\n\n\n\nIntroductions\nAMD Project Overview\nPMU Mandate\, objectives and main tasks\nReview and agreement on key activities\n\n\n\n\nCommodity studies\nFPO study\nWorking Group agenda and planning (+ Survey)\nInitial training needs assessment\nInitial study tour planning\nState visits by team\nInstitutional SWOT analysis concept\n\ne. Any other business
URL:https://amd-india.net/event/9245/
CATEGORIES:University
ORGANIZER;CN="Indo-German Cooperation on Agricultural Market Development (AMD) Project":MAILTO:archana.singh@adt.de
END:VEVENT
BEGIN:VEVENT
DTSTART;TZID=UTC:20211222T080000
DTEND;TZID=UTC:20211222T170000
DTSTAMP:20260421T091205
CREATED:20190309T065119Z
LAST-MODIFIED:20190309T065119Z
UID:83-1640160000-1640192400@amd-india.net
SUMMARY:Digital Transformation Conference
DESCRIPTION:The Digital Transformation Conference brings together leaders spearheading digital initiatives in their organizations to offer insights into their digital transformation journey’s. \nJoin digital business leaders as the event returns to Boston early 2019 to navigate digital transformation with an agenda packed full of presentations\, fireside chats\, panel discussions & networking opportunities. \nThe Digital Transformation Conference brings together leaders spearheading digital initiatives in their organizations to offer insights into their digital transformation journey’s. \nJoin digital business leaders as the event returns to Boston early 2019 to navigate digital transformation with an agenda packed full of presentations\, fireside chats\, panel discussions & networking opportunities.
URL:https://amd-india.net/event/digital-transformation-conference/
CATEGORIES:University
ATTACH;FMTTYPE=image/jpeg:https://amd-india.net/wp-content/uploads/2019/03/ev6-5-2.jpg
ORGANIZER;CN="Barney Stinson":MAILTO:info@yourmail.com
END:VEVENT
END:VCALENDAR